BEGIN:VCALENDAR
VERSION:2.0
CALSCALE:GREGORIAN
PRODID:-//Diputació de Barcelona//DibaCMS//EN
BEGIN:VEVENT
UID:2631
DTSTAMP:20260425T221345
DTSTART:20161031T000000
DTEND:20161031T000000
SUMMARY:Castanyada i Correllengua
LOCATION:
METHOD:PUBLISH
X-WR-CALNAME:riupr.ajuntament@santaeulaliariuprimer.cat
X-WR-TIMEZONE:Europe/Madrid
DESCRIPTION:Corren castanyes per la llengua a Riuprimer. Castanyada i Correllengua el dilluns 31 d’octubre, amb l’espectacle i taller de percussió corporal Santi i Mariona Duet. Aquest dilluns 31 d’octubre, arriba a Santa Eulàlia de Riuprimer el Correllengua i la Castanyada. A partir de les 6 de la tarda a la plaça de la Vila torrarem Castanyes. De les 6 a les 8, hi haurà tallers juvenils al Punt Jove El Cucut, mandales de tardor, xapes i materials del Correllengua 2016.A les 8 a la Casa de Cultura: lectura del manifest del Correllengua 2016 escrit per l’escriptor Vicenç Villatoro. Tot seguit, Espectacle i taller de percussió corporal, amb Santi i Mariona Duet. La Riuprimerenca Mariona Castells torna al poble acompanyada del músic Santi Serratosa, musicoterapeuta i bateria format en percussió corporal. Serratosa és ben conegut dins el panorama musical català i actualment forma part del grup Gossos i Astrio. Com a percussionista corporal ha creat i dirigeix la SSM BigHand (Big band de percussió corporal) i comparteix un projecte de duet amb la Mariona Castells, amb la qual ha participat en diferents espots publicitaris i esdeveniments. El projecte Santi i Mariona Duet neix l’any 2012 amb la creació de la coreografia ‘Not Worthy‘ publicada en vídeo el gener del 2013. Després de l’impacte a les xarxes socials, la bona acollida per part del públic i dels mitjans de comunicació, el duet comença a treballar amb nou material per tal de poder portar als escenaris la seva proposta. Santi i Mariona fusionen la part rítmica de la percussió corporal amb la dansa, realitzant coreografies de cançons de diferents estils musicals per tal d’experimentar i fer recerca de diferents maneres d’entendre el ritme i el moviment. Des de la seva aparició pública han actuat a diferents escenaris com el Festival Emergents, TEDx Manresa 2014, WhiteSummer Festival, diferents esdeveniments públics o privats, escoles de primària i secundària, programes de televisió i ràdio i han participat en diferents campanyes publicitàries.A la Casa de Cultura. Gratuït. Organitza: Ajuntament de Santa Eulàlia de Riuprimer, Punt Jove El Cucut. Amb el suport de: Diputació de Barcelona. ANC Riuprimer. CAL
URI:https://www.santaeulaliariuprimer.cat/actualitat/agenda/castanyada-i-correllengua.html
CLASS:PUBLIC
END:VEVENT
END:VCALENDAR
