BEGIN:VCALENDAR
VERSION:2.0
CALSCALE:GREGORIAN
PRODID:-//Diputació de Barcelona//DibaCMS//EN
BEGIN:VEVENT
UID:2652
DTSTAMP:20260426T020851
DTSTART:20160131T000000
DTEND:20160131T000000
SUMMARY:Teatre: Top Model de la Companyia Set i Mig de Gurb
LOCATION:
METHOD:PUBLISH
X-WR-CALNAME:riupr.ajuntament@santaeulaliariuprimer.cat
X-WR-TIMEZONE:Europe/Madrid
DESCRIPTION:Aquest diumenge 31 de gener teatre a Santa Eulàlia de Riuprimer. La Companyia de Teatre Set i Mig de Gurb presenta: Top Model. De Sergi Pompermayer. A les 6 de la tarda a la Casa de Cultura. Entrades a la venda una hora abans a taquilla, 5€. El text pot ferir la sensibilitat de l'espectador. Amb la col·laboració de l'Ajuntament de Santa Eulàlia de Riuprimer.
URI:https://www.santaeulaliariuprimer.cat/actualitat/agenda/teatre-top-model-de-la-companyia-set-i-mig-de-gurb.html
CLASS:PUBLIC
END:VEVENT
END:VCALENDAR
