BEGIN:VCALENDAR
VERSION:2.0
CALSCALE:GREGORIAN
PRODID:-//Diputació de Barcelona//DibaCMS//EN
BEGIN:VEVENT
UID:2656
DTSTAMP:20260425T182907
DTSTART:20161230T000000
DTEND:20161230T000000
SUMMARY:Teatre: Els Pastorets del Ferrer Magí
LOCATION:
METHOD:PUBLISH
X-WR-CALNAME:riupr.ajuntament@santaeulaliariuprimer.cat
X-WR-TIMEZONE:Europe/Madrid
DESCRIPTION:Pastorets basats en l’obra d’Enriqueta Capellades.Beneficis a favor de la Comissió de Reis.Organitzen: Comissió de Reis de l'Ajuntament de Santa Eulàlia de Riuprimer. A la Casa de Cultura. Entrades:Anticipades 5€ a Can Pastisser, Ca la Lourdes i Can Ton. Nens fins a 2 anys gratuït. Entrades a taquilla abans de la funció 7€. 
URI:https://www.santaeulaliariuprimer.cat/actualitat/agenda/teatre-els-pastorets-del-ferrer-magi.html
CLASS:PUBLIC
END:VEVENT
END:VCALENDAR
