BEGIN:VCALENDAR
VERSION:2.0
CALSCALE:GREGORIAN
PRODID:-//Diputació de Barcelona//DibaCMS//EN
BEGIN:VEVENT
UID:2659
DTSTAMP:20260425T143812
DTSTART:20151030T000000
DTEND:20151030T000000
SUMMARY:Castanyada i Correllengua el divendres 30 d'octubre, amb l'espectacle Ovidi3, amb David Fernàndez.  
LOCATION:
METHOD:PUBLISH
X-WR-CALNAME:riupr.ajuntament@santaeulaliariuprimer.cat
X-WR-TIMEZONE:Europe/Madrid
DESCRIPTION:Aquest divendres 30 d’octubre, arriba a Santa Eulàlia de Riuprimer el Correllengua i la Castanyada. A partir de les 5 de la tarda al carrer del Puig, torrarem Castanyes. A 2/4 de 9, lectura del manifest del Correllengua 2015 escrit pel sociòleg Salvador Cardús. Tot seguit, Espectacle sobre l’homenatjat del Correllengua d’enguany, Ovidi Montllor: OVIDI3, humil homenatge a la figura i obra d'Ovidi Montllor per: David Caño "L'Artista", Borja Penalba "El Cantant" i David Fernàndez "El Pallasso"A la Casa de Cultura. Gratuït. Hi haurà servei de bar i castanyes durant tota la vetllada. El dimecres dia 28 a les 17h hi haurà l’hora del Conte, a càrrec del Bibliobús, amb “La Castanyada” al Punt Jove El Cucut. (Gratuït). Organitza: Ajuntament de Santa Eulàlia de Riuprimer, Punt Jove El Cucut. Amb el suport de: Diputació de Barcelona. ANC Riuprimer. 
URI:https://www.santaeulaliariuprimer.cat/actualitat/agenda/castanyada-i-correllengua-el-divendres-30-doctubre-amb-lespectacle-ovidi3-amb-david-fernandez-.html
CLASS:PUBLIC
END:VEVENT
END:VCALENDAR
