BEGIN:VCALENDAR
VERSION:2.0
CALSCALE:GREGORIAN
PRODID:-//Diputació de Barcelona//DibaCMS//EN
BEGIN:VEVENT
UID:2721
DTSTAMP:20260425T193946
DTSTART:20160828T000000
DTEND:20160828T000000
SUMMARY:Festa Major d'Estiu 2016
LOCATION:
METHOD:PUBLISH
X-WR-CALNAME:riupr.ajuntament@santaeulaliariuprimer.cat
X-WR-TIMEZONE:Europe/Madrid
DESCRIPTION:8h XXVII Caminada Popular.Inscripcions al moment. Sortida i arribada a la Plaça de les Pedretes. Inclou esmorzar i obsequi. Preu: 7€. 17h Futbol. Memorial Quimet Novellas: Vic Riuprimer REFO– U.E. Tona. 19h Gran Quina popular. Set de Quina 2016!!! Amb molts premis. Hi haurà servei d’entrepans i begudes. A la Plaça de la rectoria. Organitza: AMPA EL ROURE XIC. 
URI:https://www.santaeulaliariuprimer.cat/actualitat/agenda/festa-major-destiu-2016.html
CLASS:PUBLIC
END:VEVENT
END:VCALENDAR
