BEGIN:VCALENDAR
VERSION:2.0
CALSCALE:GREGORIAN
PRODID:-//Diputació de Barcelona//DibaCMS//EN
BEGIN:VEVENT
UID:2731
DTSTAMP:20260425T222027
DTSTART:20160428T000000
DTEND:20160428T000000
SUMMARY:SESSIÓ INFORMATIVA EMPRESES I AUTÒNOMS
LOCATION:
METHOD:PUBLISH
X-WR-CALNAME:riupr.ajuntament@santaeulaliariuprimer.cat
X-WR-TIMEZONE:Europe/Madrid
DESCRIPTION:L’Ajuntament de Santa Eulàlia de Riuprimer, us convida  a la Sessió informativa per empreses i autònoms que tindrà lloc el proper 28 d’abril de 2016 de 19:30h a 20:30h, al local del jovent – Plaça de la Vila.     La finalitat d’aquesta trobada és donar a conèixer el  Servei de Desenvolupament Local i els recursos, que a través de la Mancomunitat la Plana, es posen a l’abast de les empreses, autònoms del municipi i de les persones emprenedores amb una idea de negoci.      Per confirmar assistència al següent correu electrònic 
URI:https://www.santaeulaliariuprimer.cat/actualitat/agenda/sessio-informativa-empreses-i-autonoms.html
CLASS:PUBLIC
END:VEVENT
END:VCALENDAR
