BEGIN:VCALENDAR
VERSION:2.0
CALSCALE:GREGORIAN
PRODID:-//Diputació de Barcelona//DibaCMS//EN
BEGIN:VEVENT
UID:2742
DTSTAMP:20260425T205503
DTSTART:20151227T000000
DTEND:20151227T000000
SUMMARY:Patges reials
LOCATION:
METHOD:PUBLISH
X-WR-CALNAME:riupr.ajuntament@santaeulaliariuprimer.cat
X-WR-TIMEZONE:Europe/Madrid
DESCRIPTION:Patges reials:Diumenge 27 de desembre de 2/4 de 12 a la 1 del migdia.Al Campus de la Rectoria. (En cas de pluja a la Casa de Cultura).Els nens podran lliurar les cartes de reis als patges reials i rebran un petit obsequi. 
URI:https://www.santaeulaliariuprimer.cat/actualitat/agenda/2742-patges-reials.html
CLASS:PUBLIC
END:VEVENT
END:VCALENDAR
