BEGIN:VCALENDAR
VERSION:2.0
CALSCALE:GREGORIAN
PRODID:-//Diputació de Barcelona//DibaCMS//EN
BEGIN:VEVENT
UID:2754
DTSTAMP:20260425T155348
DTSTART:20160627T000000
DTEND:20160701T000000
SUMMARY:CURS DE PRE-MONITORS DE LLEURE
LOCATION:
METHOD:PUBLISH
X-WR-CALNAME:riupr.ajuntament@santaeulaliariuprimer.cat
X-WR-TIMEZONE:Europe/Madrid
DESCRIPTION:INFORMACIÓ I INSCRIPCIONS fins el 17 de maig:Al teu Punt Jove (Balenyà, Santa Eulàlia deRiuprimer, Seva, Taradell, Tona i Viladrau )Als ajuntaments de Malla i de Sant Miquelde Balenyà
URI:https://www.santaeulaliariuprimer.cat/actualitat/agenda/curs-de-pre-monitors-de-lleure.html
CLASS:PUBLIC
END:VEVENT
END:VCALENDAR
