BEGIN:VCALENDAR
VERSION:2.0
CALSCALE:GREGORIAN
PRODID:-//Diputació de Barcelona//DibaCMS//EN
BEGIN:VEVENT
UID:2755
DTSTAMP:20260425T154818
DTSTART:20160627T000000
DTEND:20160729T000000
SUMMARY:CASAL D'ESTIU 2016
LOCATION:
METHOD:PUBLISH
X-WR-CALNAME:riupr.ajuntament@santaeulaliariuprimer.cat
X-WR-TIMEZONE:Europe/Madrid
DESCRIPTION:Inscripcions del 31 de maig al 21 de juny, dimarts i divendres de 17h a 19h al PIJ El Cucut.Sessió informativa el 21 de juny a les 20'30h a la Casa de Cultura.
URI:https://www.santaeulaliariuprimer.cat/actualitat/agenda/casal-destiu-2016.html
CLASS:PUBLIC
END:VEVENT
END:VCALENDAR
