BEGIN:VCALENDAR
VERSION:2.0
CALSCALE:GREGORIAN
PRODID:-//Diputació de Barcelona//DibaCMS//EN
BEGIN:VEVENT
UID:2759
DTSTAMP:20260426T034308
DTSTART:20170427T000000
DTEND:20170427T000000
SUMMARY:Lletres en viu
LOCATION:
METHOD:PUBLISH
X-WR-CALNAME:riupr.ajuntament@santaeulaliariuprimer.cat
X-WR-TIMEZONE:Europe/Madrid
DESCRIPTION:El Club de Lectura de Santa Eulàlia de Riuprimer, amb el suport del Programa Lletres en Viu, organiten una xerrada col·loqui a càrrec de Martí Gironell en el marc dels 10 anys de la publicació de la seva novel·la "El Pont dels Jueus".La xerrada col·loqui es realitzarà dijous 27 d'abril a les 19.30h a l'Aula de Lectura del Local del Jovent - SIJ "El Cucut".Activitat finançada per l'Institut de les Lletres Catalanes.
URI:https://www.santaeulaliariuprimer.cat/actualitat/agenda/2759-lletres-en-viu.html
CLASS:PUBLIC
END:VEVENT
END:VCALENDAR
