BEGIN:VCALENDAR
VERSION:2.0
CALSCALE:GREGORIAN
PRODID:-//Diputació de Barcelona//DibaCMS//EN
BEGIN:VEVENT
UID:2763
DTSTAMP:20260426T064243
DTSTART:20160327T000000
DTEND:20160327T000000
SUMMARY:Caramelles 2016
LOCATION:
METHOD:PUBLISH
X-WR-CALNAME:riupr.ajuntament@santaeulaliariuprimer.cat
X-WR-TIMEZONE:Europe/Madrid
DESCRIPTION:Enguany, tornen les clàssiques Caramelles de Santa Eulàlia de Riuprimer amb els tres grups de caramellaires; grans, mitjans i petits. Després de mesos d’assajos, ens obsequiaran el dissabte 26 i el diumenge 27 amb les cantades i els ballets. El programa és el següent: Dissabte 26 a la tarda, la colla dels grans farà la cantada per les cases de pagès del municipi. Diumenge a 2/4 de 9 del matí començarà la cantada i la ballada pels carrers del poble a càrrec de les tres colles. La festa final serà després de la missa de Glòria, a ¼ d’1 a la Plaça de l’Església. El grup dels grans també oferirà ballets, recuperats per aquesta colla fa 2 anys.
URI:https://www.santaeulaliariuprimer.cat/actualitat/agenda/caramelles-2016.html
CLASS:PUBLIC
END:VEVENT
END:VCALENDAR
