BEGIN:VCALENDAR
VERSION:2.0
CALSCALE:GREGORIAN
PRODID:-//Diputació de Barcelona//DibaCMS//EN
BEGIN:VEVENT
UID:2765
DTSTAMP:20260426T051300
DTSTART:20170227T000000
DTEND:20170227T000000
SUMMARY:Convocatòria Ple Ordinari 27-02-2017
LOCATION:
METHOD:PUBLISH
X-WR-CALNAME:riupr.ajuntament@santaeulaliariuprimer.cat
X-WR-TIMEZONE:Europe/Madrid
DESCRIPTION:
URI:https://www.santaeulaliariuprimer.cat/actualitat/agenda/convocatoria-ple-ordinari-27-02-2017.html
CLASS:PUBLIC
END:VEVENT
END:VCALENDAR
