BEGIN:VCALENDAR
VERSION:2.0
CALSCALE:GREGORIAN
PRODID:-//Diputació de Barcelona//DibaCMS//EN
BEGIN:VEVENT
UID:2766
DTSTAMP:20260425T205521
DTSTART:20160227T000000
DTEND:20160227T000000
SUMMARY:Xerrada-Taller al Punt Jove de Santa Eulàlia:Educar sense cridar.
A càrrec d'Alba Castellví
LOCATION:
METHOD:PUBLISH
X-WR-CALNAME:riupr.ajuntament@santaeulaliariuprimer.cat
X-WR-TIMEZONE:Europe/Madrid
DESCRIPTION:Xerrada-Taller adreçat a famílies amb fills de 4 a 12 anys.Objectiu: adquirir estratègies i instruments per educar amb serenitat i coherència.Entre els temes que hi treballem hi ha:• La tranquil•litat dels adults• La responsabilitat dels infants• Els límits: com dir “no” i resistir amb serenitat• Les normes: com han de ser• Instruments per a una comunicació adequada
URI:https://www.santaeulaliariuprimer.cat/actualitat/agenda/xerrada-taller-al-punt-jove-de-santa-eulaliaeducar-sense-cridara-carrec-dalba-castellvi.html
CLASS:PUBLIC
END:VEVENT
END:VCALENDAR
