BEGIN:VCALENDAR
VERSION:2.0
CALSCALE:GREGORIAN
PRODID:-//Diputació de Barcelona//DibaCMS//EN
BEGIN:VEVENT
UID:2772
DTSTAMP:20260426T004815
DTSTART:20161226T000000
DTEND:20161226T000000
SUMMARY:Representació del Pessebre Monumental. Rectoria.
LOCATION:
METHOD:PUBLISH
X-WR-CALNAME:riupr.ajuntament@santaeulaliariuprimer.cat
X-WR-TIMEZONE:Europe/Madrid
DESCRIPTION:Representació del Pessebre Monumental. Als baixos de la Rectoria.
URI:https://www.santaeulaliariuprimer.cat/actualitat/agenda/representacio-del-pessebre-monumental-rectoria.html
CLASS:PUBLIC
END:VEVENT
END:VCALENDAR
