BEGIN:VCALENDAR
VERSION:2.0
CALSCALE:GREGORIAN
PRODID:-//Diputació de Barcelona//DibaCMS//EN
BEGIN:VEVENT
UID:2783
DTSTAMP:20260425T194626
DTSTART:20160826T000000
DTEND:20160826T000000
SUMMARY:Festa Major d'Estiu 2016
LOCATION:
METHOD:PUBLISH
X-WR-CALNAME:riupr.ajuntament@santaeulaliariuprimer.cat
X-WR-TIMEZONE:Europe/Madrid
DESCRIPTION:19h Rondallaire presenta: Issun Boshi. Espectacle infantil de titelles sobre un conte japonès. 21h Cinema infantil a la fresca, amb la projecció de la pel•lícula: La cançó del mar. Irlanda, 2014. Per a tots els públics. Versió doblada al català. La pel•lícula serà presentada per Sara Carline. Hi haurà servei de bar i crispetes!A la plaça de la Rectoria. Activitats amb la col•laboració de l’Associació Nits de Cinema Oriental. 
URI:https://www.santaeulaliariuprimer.cat/actualitat/agenda/2783-festa-major-destiu-2016.html
CLASS:PUBLIC
END:VEVENT
END:VCALENDAR
