BEGIN:VCALENDAR
VERSION:2.0
CALSCALE:GREGORIAN
PRODID:-//Diputació de Barcelona//DibaCMS//EN
BEGIN:VEVENT
UID:2786
DTSTAMP:20260425T131710
DTSTART:20150726T000000
DTEND:20150726T000000
SUMMARY:Festa Barri del Pont
LOCATION:
METHOD:PUBLISH
X-WR-CALNAME:riupr.ajuntament@santaeulaliariuprimer.cat
X-WR-TIMEZONE:Europe/Madrid
DESCRIPTION:10h Xocolatada i coca. / Jocs infantils i inflables.  17h Cafè, te. Mostra de pastissos i jocs. 
URI:https://www.santaeulaliariuprimer.cat/actualitat/agenda/festa-barri-del-pont.html
CLASS:PUBLIC
END:VEVENT
END:VCALENDAR
