BEGIN:VCALENDAR
VERSION:2.0
CALSCALE:GREGORIAN
PRODID:-//Diputació de Barcelona//DibaCMS//EN
BEGIN:VEVENT
UID:2793
DTSTAMP:20260426T034150
DTSTART:20170426T000000
DTEND:20170426T000000
SUMMARY:7a Setmana de la Gent Gran
Activitat intergeneracional amb els nens i nenes del Roure Xic
LOCATION:
METHOD:PUBLISH
X-WR-CALNAME:riupr.ajuntament@santaeulaliariuprimer.cat
X-WR-TIMEZONE:Europe/Madrid
DESCRIPTION:Rínxols d'Or i els tres óssos. Conte explicat pels avis i àvies del Casal als infants
URI:https://www.santaeulaliariuprimer.cat/actualitat/agenda/7a-setmana-de-la-gent-granactivitat-intergeneracional-amb-els-nens-i-nenes-del-roure-xic.html
CLASS:PUBLIC
END:VEVENT
END:VCALENDAR
