BEGIN:VCALENDAR
VERSION:2.0
CALSCALE:GREGORIAN
PRODID:-//Diputació de Barcelona//DibaCMS//EN
BEGIN:VEVENT
UID:2795
DTSTAMP:20260426T005004
DTSTART:20160426T000000
DTEND:20160426T000000
SUMMARY:Reportatge del poble de Santa Eulàlia de Riuprimer, entrevista Pep Sala, caramellaires, i el poble en general. Vespre a La 2. (TVE2).
LOCATION:
METHOD:PUBLISH
X-WR-CALNAME:riupr.ajuntament@santaeulaliariuprimer.cat
X-WR-TIMEZONE:Europe/Madrid
DESCRIPTION:Avui dimarts 26 d'abril, el programa Vespre a la 2 (Facebook, Twitter, web), de 19.30 a 20.15, entrevistarà en Pep Sala al seu estudi de Santa Eulàlia de Riuprimer, parlarà amb els caramellaires del poble i tocarà altres aspectes del municipi. Si no ho podeu veure en directe, el programa es penjarà i serà consultable a la carta al web. 
URI:https://www.santaeulaliariuprimer.cat/actualitat/agenda/reportatge-del-poble-de-santa-eulalia-de-riuprimer-entrevista-pep-sala-caramellaires-i-el-poble-en-general-vespre-a-la-2-tve2.html
CLASS:PUBLIC
END:VEVENT
END:VCALENDAR
