BEGIN:VCALENDAR
VERSION:2.0
CALSCALE:GREGORIAN
PRODID:-//Diputació de Barcelona//DibaCMS//EN
BEGIN:VEVENT
UID:2812
DTSTAMP:20260425T205203
DTSTART:20161125T000000
DTEND:20161125T000000
SUMMARY:Dia internacional contra la violència vers les dones
LOCATION:
METHOD:PUBLISH
X-WR-CALNAME:riupr.ajuntament@santaeulaliariuprimer.cat
X-WR-TIMEZONE:Europe/Madrid
DESCRIPTION:Santa Eulàlia de Riuprimer25 NovembreDia internacional contra la violència vers les donesDel 21 al 25 de novembreDe 16:30 a 20:30 - Punt Jove El CucutAcció de sensibilització:"A cegues no mola: en l'amor no tot s'hi val"I vine a fer-te una foto contra la violència de gènere al nostre photocallHo organitza: Ajunament, Punt Jove El Cucut i Mancomunitat La PlanaV Concurs d'Espots per a la No Violència MasclistaA partir de 16 anys.Termini de presentació: 2 de desembre de 2016.Més info: www.mancoplana.cat o Punt Jove.
URI:https://www.santaeulaliariuprimer.cat/actualitat/agenda/2812-dia-internacional-contra-la-violencia-vers-les-dones.html
CLASS:PUBLIC
END:VEVENT
END:VCALENDAR
