BEGIN:VCALENDAR
VERSION:2.0
CALSCALE:GREGORIAN
PRODID:-//Diputació de Barcelona//DibaCMS//EN
BEGIN:VEVENT
UID:2813
DTSTAMP:20260426T004911
DTSTART:20151125T000000
DTEND:20151125T000000
SUMMARY:DIA INTERNACIONAL CONTRA LA VIOLÈNCIA VERS LES DONES
LOCATION:
METHOD:PUBLISH
X-WR-CALNAME:riupr.ajuntament@santaeulaliariuprimer.cat
X-WR-TIMEZONE:Europe/Madrid
DESCRIPTION:
URI:https://www.santaeulaliariuprimer.cat/actualitat/agenda/2813-dia-internacional-contra-la-violencia-vers-les-dones.html
CLASS:PUBLIC
END:VEVENT
END:VCALENDAR
