BEGIN:VCALENDAR
VERSION:2.0
CALSCALE:GREGORIAN
PRODID:-//Diputació de Barcelona//DibaCMS//EN
BEGIN:VEVENT
UID:2818
DTSTAMP:20260425T170313
DTSTART:20141025T000000
DTEND:20141025T000000
SUMMARY:Visites guiades a l'Ermita de Sant Sebastià - Ruta 1714. Tricentenari. Explicació de la Guerra de Successió i el Pacte dels Vigatans.
LOCATION:
METHOD:PUBLISH
X-WR-CALNAME:riupr.ajuntament@santaeulaliariuprimer.cat
X-WR-TIMEZONE:Europe/Madrid
DESCRIPTION:Visites guiades i explicacions de la Guerra de Successió i el Pacte dels Vigatans en el marc del Tricentenari. Visita exterior de la representació del Pacte dels Vigatans, acompanyats d'un guia de Vic Informadors, de manera gratuïta. No cal reserva prèvia. HorarisDe les 11 a les 17h ininterrompudament.PreuGratuït
URI:https://www.santaeulaliariuprimer.cat/actualitat/agenda/2818-visites-guiades-a-lermita-de-sant-sebastia-ruta-1714-tricentenari-explicacio-de-la-guerra-de-successio-i-el-pacte-dels-vigatans.html
CLASS:PUBLIC
END:VEVENT
END:VCALENDAR
