BEGIN:VCALENDAR
VERSION:2.0
CALSCALE:GREGORIAN
PRODID:-//Diputació de Barcelona//DibaCMS//EN
BEGIN:VEVENT
UID:2832
DTSTAMP:20260426T033929
DTSTART:20170425T000000
DTEND:20170425T000000
SUMMARY:7a Setmana de la Gent Gran
Intercanvi de Casals- Santa Eulàlia de Riuprimer i Prats de Lluçanès
LOCATION:
METHOD:PUBLISH
X-WR-CALNAME:riupr.ajuntament@santaeulaliariuprimer.cat
X-WR-TIMEZONE:Europe/Madrid
DESCRIPTION:ProgramaRebuda i esmorzar + visita guiada pel nostre municipi, pessebres i l'església + dinar i sobretaula amb animació
URI:https://www.santaeulaliariuprimer.cat/actualitat/agenda/7a-setmana-de-la-gent-granintercanvi-de-casals-santa-eulalia-de-riuprimer-i-prats-de-llucanes.html
CLASS:PUBLIC
END:VEVENT
END:VCALENDAR
