BEGIN:VCALENDAR
VERSION:2.0
CALSCALE:GREGORIAN
PRODID:-//Diputació de Barcelona//DibaCMS//EN
BEGIN:VEVENT
UID:2844
DTSTAMP:20260425T192847
DTSTART:20161224T000000
DTEND:20161224T000000
SUMMARY:Missa del Gall i inauguració del Pessebre Monumental
LOCATION:
METHOD:PUBLISH
X-WR-CALNAME:riupr.ajuntament@santaeulaliariuprimer.cat
X-WR-TIMEZONE:Europe/Madrid
DESCRIPTION: Missa del Gall a l'Església Parroquial i tot seguit inauguració del Pessebre Monumental als Baixos de la Rectoria. Hi haurà un petit refrigeri. 
URI:https://www.santaeulaliariuprimer.cat/actualitat/agenda/missa-del-gall-i-inauguracio-del-pessebre-monumental.html
CLASS:PUBLIC
END:VEVENT
END:VCALENDAR
