BEGIN:VCALENDAR
VERSION:2.0
CALSCALE:GREGORIAN
PRODID:-//Diputació de Barcelona//DibaCMS//EN
BEGIN:VEVENT
UID:2845
DTSTAMP:20260425T143424
DTSTART:20151224T000000
DTEND:20151224T000000
SUMMARY:Pessebre Monumental
LOCATION:
METHOD:PUBLISH
X-WR-CALNAME:riupr.ajuntament@santaeulaliariuprimer.cat
X-WR-TIMEZONE:Europe/Madrid
DESCRIPTION:Pessebre Monumental:Dia 24, inauguració després de la Missa del Gall.Amb coca i cava per a tots els assistents.Dies de representació: 25, 26,27, desembre. 1, 3, 6, 10 de gener de 2016.Diumenges i festius de 11 a 1 del matí i de 5 a 8 de la tarda.
URI:https://www.santaeulaliariuprimer.cat/actualitat/agenda/2845-pessebre-monumental.html
CLASS:PUBLIC
END:VEVENT
END:VCALENDAR
