BEGIN:VCALENDAR
VERSION:2.0
CALSCALE:GREGORIAN
PRODID:-//Diputació de Barcelona//DibaCMS//EN
BEGIN:VEVENT
UID:2857
DTSTAMP:20260426T050527
DTSTART:20160724T000000
DTEND:20160724T000000
SUMMARY:Festa del Barri del Pont 2016
LOCATION:
METHOD:PUBLISH
X-WR-CALNAME:riupr.ajuntament@santaeulaliariuprimer.cat
X-WR-TIMEZONE:Europe/Madrid
DESCRIPTION:Aquest cap de setmana, del 23 i 24 de juliol, arribala Festa del Barri del Pont 2016!Diumenge a partir de les 10 del matí, xocolatada i coca,i per als més menuts, jocs infantils i inflables. A les 5 de la tarda, cafè i te, mostra de pastissos i jocs!Us hi esperem a tots. Col·labora: Ajuntament de Santa Eulàlia de Riuprimer.
URI:https://www.santaeulaliariuprimer.cat/actualitat/agenda/2857-festa-del-barri-del-pont-2016.html
CLASS:PUBLIC
END:VEVENT
END:VCALENDAR
