BEGIN:VCALENDAR
VERSION:2.0
CALSCALE:GREGORIAN
PRODID:-//Diputació de Barcelona//DibaCMS//EN
BEGIN:VEVENT
UID:2861
DTSTAMP:20260426T050605
DTSTART:20170424T000000
DTEND:20170424T000000
SUMMARY:Titelles amb el Bibliobús. "El millor regal del món" amb Marta Esmarats. 
LOCATION:
METHOD:PUBLISH
X-WR-CALNAME:riupr.ajuntament@santaeulaliariuprimer.cat
X-WR-TIMEZONE:Europe/Madrid
DESCRIPTION:El dilluns 24, a 2/4 de 6 de la tarda, a la Casa de Cultura, hi haurà un altre acte infantil per a públic familiar, es tracta del teatre d’ombres “El millor regal del món” amb Marta Esmarats. L’acte serà gratuït, i es realitza gràcies a la col•laboració del Bibliobús Puigdon de la Xarxa de Biblioteques Municipals de la Diputació de Barcelona.
URI:https://www.santaeulaliariuprimer.cat/actualitat/agenda/titelles-amb-el-bibliobus-el-millor-regal-del-mon-amb-marta-esmarats-.html
CLASS:PUBLIC
END:VEVENT
END:VCALENDAR
