BEGIN:VCALENDAR
VERSION:2.0
CALSCALE:GREGORIAN
PRODID:-//Diputació de Barcelona//DibaCMS//EN
BEGIN:VEVENT
UID:2862
DTSTAMP:20260426T022327
DTSTART:20170424T000000
DTEND:20170424T000000
SUMMARY:7a Setmana de la Gent Gran
Dia del soci/a del Casal El Puig
LOCATION:
METHOD:PUBLISH
X-WR-CALNAME:riupr.ajuntament@santaeulaliariuprimer.cat
X-WR-TIMEZONE:Europe/Madrid
DESCRIPTION:Amb berenar pels socis del CasalInscripcions fins el 20 d'abril al Casal del Avis
URI:https://www.santaeulaliariuprimer.cat/actualitat/agenda/7a-setmana-de-la-gent-grandia-del-socia-del-casal-el-puig.html
CLASS:PUBLIC
END:VEVENT
END:VCALENDAR
