BEGIN:VCALENDAR
VERSION:2.0
CALSCALE:GREGORIAN
PRODID:-//Diputació de Barcelona//DibaCMS//EN
BEGIN:VEVENT
UID:2864
DTSTAMP:20260425T154546
DTSTART:20150424T000000
DTEND:20150424T000000
SUMMARY:El Flautista d'Hamelin. Activitat intergeneracional.
LOCATION:
METHOD:PUBLISH
X-WR-CALNAME:riupr.ajuntament@santaeulaliariuprimer.cat
X-WR-TIMEZONE:Europe/Madrid
DESCRIPTION:Pel divendres 24, hi ha programada una activitat intergeneracional que sempre té molt èxit, els avis i àvies explicaven als infants el conte: El Flautista d’Hamelin, a les 15h.
URI:https://www.santaeulaliariuprimer.cat/actualitat/agenda/el-flautista-dhamelin-activitat-intergeneracional.html
CLASS:PUBLIC
END:VEVENT
END:VCALENDAR
