BEGIN:VCALENDAR
VERSION:2.0
CALSCALE:GREGORIAN
PRODID:-//Diputació de Barcelona//DibaCMS//EN
BEGIN:VEVENT
UID:2878
DTSTAMP:20260425T182415
DTSTART:20160723T000000
DTEND:20160723T000000
SUMMARY:Festa del Barri del Pont 2016
LOCATION:
METHOD:PUBLISH
X-WR-CALNAME:riupr.ajuntament@santaeulaliariuprimer.cat
X-WR-TIMEZONE:Europe/Madrid
DESCRIPTION:Aquest cap de setmana, del 23 i 24 de juliol, arriba la Festa del Barri del Pont 2016!El dissabte al vespre hi haurà el típic sopar, i ball de confeti, amb el grup Sol de Nit. Col·labora: Ajuntament de Santa Eulàlia de Riuprimer.
URI:https://www.santaeulaliariuprimer.cat/actualitat/agenda/2878-festa-del-barri-del-pont-2016.html
CLASS:PUBLIC
END:VEVENT
END:VCALENDAR
