BEGIN:VCALENDAR
VERSION:2.0
CALSCALE:GREGORIAN
PRODID:-//Diputació de Barcelona//DibaCMS//EN
BEGIN:VEVENT
UID:2889
DTSTAMP:20260426T033650
DTSTART:20170423T000000
DTEND:20170423T000000
SUMMARY:Aplec de Sant Sebastià 2017
LOCATION:
METHOD:PUBLISH
X-WR-CALNAME:riupr.ajuntament@santaeulaliariuprimer.cat
X-WR-TIMEZONE:Europe/Madrid
DESCRIPTION: El mateix dia de Sant Jordi, aquest any coincideix amb l’Aplec de Sant Sebastià, per això, l’Escola El Roure Gros tindrà parada de llibres i roses, a l’ermita de Sant Sebastià a més a més del poble. El tradicional Aplec, començarà a 2/4 de 12 del matí amb l’ofici solemne, participat i cantat pels Caramellaires de Riuprimer i els assistents. Hi haurà un recordatori per al recentment traspassat Mossèn Pere Casas, fins fa pocs mesos rector de la parròquia. Acabada la missa hi haurà les Caramelles i ballets populars, amb els Caramellaires petits, mitjans i grans de Santa Eulàlia de Riuprimer. I és clar, després de les rifes de llonganisses i pernils, no hi pot faltar la típica arrossada. Els tiquets es poden adquirir fins a ¼ d’1 del mateix dia allà mateix, el servei el proporciona Planes Bones. A les 4 de la tarda, Audició de Sardanes, amb la Cobla Canigó de Torelló. Col•laboren en l’acte els Ajuntaments de Vic i Santa Eulàlia de Riuprimer. 
URI:https://www.santaeulaliariuprimer.cat/actualitat/agenda/2889-aplec-de-sant-sebastia-2017.html
CLASS:PUBLIC
END:VEVENT
END:VCALENDAR
