BEGIN:VCALENDAR
VERSION:2.0
CALSCALE:GREGORIAN
PRODID:-//Diputació de Barcelona//DibaCMS//EN
BEGIN:VEVENT
UID:2891
DTSTAMP:20260426T033829
DTSTART:20160423T000000
DTEND:20160423T000000
SUMMARY:Sant Jordi. Parada de Roses i llibres de l'escola El Roure Gros
LOCATION:
METHOD:PUBLISH
X-WR-CALNAME:riupr.ajuntament@santaeulaliariuprimer.cat
X-WR-TIMEZONE:Europe/Madrid
DESCRIPTION:El dissabte 23, es podrà comprar la rosa i el llibre a la parada de l’Escola El Roure Gros, a la Plaça de l’Ajuntament. A més, és el dia del soci/a del Casal d’Avis el Puig, que ho celebrarà amb un bon berenar a les 6 de la tarda.
URI:https://www.santaeulaliariuprimer.cat/actualitat/agenda/sant-jordi-parada-de-roses-i-llibres-de-lescola-el-roure-gros.html
CLASS:PUBLIC
END:VEVENT
END:VCALENDAR
