BEGIN:VCALENDAR
VERSION:2.0
CALSCALE:GREGORIAN
PRODID:-//Diputació de Barcelona//DibaCMS//EN
BEGIN:VEVENT
UID:2909
DTSTAMP:20260425T161458
DTSTART:20160522T000000
DTEND:20160522T000000
SUMMARY:Campanya antirràbica 2016
Tots el gossos de més de tres mesos
Voluntària en gats
LOCATION:
METHOD:PUBLISH
X-WR-CALNAME:riupr.ajuntament@santaeulaliariuprimer.cat
X-WR-TIMEZONE:Europe/Madrid
DESCRIPTION:
URI:https://www.santaeulaliariuprimer.cat/actualitat/agenda/campanya-antirrabica-2016tots-el-gossos-de-mes-de-tres-mesosvoluntaria-en-gats.html
CLASS:PUBLIC
END:VEVENT
END:VCALENDAR
