BEGIN:VCALENDAR
VERSION:2.0
CALSCALE:GREGORIAN
PRODID:-//Diputació de Barcelona//DibaCMS//EN
BEGIN:VEVENT
UID:2926
DTSTAMP:20260426T020817
DTSTART:20170521T000000
DTEND:20170521T000000
SUMMARY:Visita guiada a l'Església i el Mil·liari Romà de Santa Eulàlia de Riuprimer
LOCATION:
METHOD:PUBLISH
X-WR-CALNAME:riupr.ajuntament@santaeulaliariuprimer.cat
X-WR-TIMEZONE:Europe/Madrid
DESCRIPTION:Diumenge  21 de Maig de 12h a 13:30hEl Dia Internacional dels Museus (DIM) se celebra anualment el 18 de maig. És un esdeveniment organitzat pel Comitè Internacional dels Museus (ICOM) des del 1977, que té com a objectiu conscienciar els ciutadans sobre el paper dels museus en el desenvolupament de la societat.Amb motiu del DIM, s’organitzen una gran quantitat d'activitats que tenen lloc el mateix 18 de maig i/o en dies anteriors i posteriors a aquesta data, ja sigui en forma d'esdeveniments puntuals com programacions que poden durar tota una jornada o varis dies i són jornades de portes obertes que s’ofereixen de forma gratuïta als seus visitants.Santa Eulàlia de Riuprimer s’ha volgut sumar a aquesta iniciativa organitzant una visita guiada a l’Església Parroquial, i com a novetat aquest any incorporem la visita al Mil•liari Romà situat  a l’ajuntament del nostre municipi.La visita a l’Església consistirà en visitar el petit museu, la coberta romànica, que és la única coberta romànica que es pot veure a peu pla de tot Catalunya, i el campanar i la seva antiga matraca, que és un dels pocs exemplars d’aquest tipus que es conserven a Catalunya.  Després ens desplaçarem a l’Ajuntament i visitarem el Mil•liari Romà. És  un  utensili  històric  de  caràcter arqueològic que porta la  inscripció del  procònsol Mani Sergi i té una gran importància arqueològica i cultural ja que al nostre poble tenim el número 1.Les inscripcions es poden fer directament a l’Ajuntament al telèfon 93 813 80 00 fins el dia 19/05 a les 14h.*Grup màxim de 20 persones. Activitat gratuïta al estar emmarcada dins el Dia Internacional dels Museus. La visita s’iniciarà un cop acabi la missa.
URI:https://www.santaeulaliariuprimer.cat/actualitat/agenda/2926-visita-guiada-a-lesglesia-i-el-milliari-roma-de-santa-eulalia-de-riuprimer.html
CLASS:PUBLIC
END:VEVENT
END:VCALENDAR
