BEGIN:VCALENDAR
VERSION:2.0
CALSCALE:GREGORIAN
PRODID:-//Diputació de Barcelona//DibaCMS//EN
BEGIN:VEVENT
UID:2936
DTSTAMP:20260426T064322
DTSTART:20170221T000000
DTEND:20170221T000000
SUMMARY:Xerrada-tertúlia a càrrec de l'Eduard Vallory president del Centre UNESCO de Catalunya
LOCATION:
METHOD:PUBLISH
X-WR-CALNAME:riupr.ajuntament@santaeulaliariuprimer.cat
X-WR-TIMEZONE:Europe/Madrid
DESCRIPTION:Des de l'escola hem organitzat una xerrada-tertúlia que anirà a càrrec de l'Eduard Vallory. Actualment l'Eduard és president del Centre UNESCO de Catalunya, dirigeix el programa Escola Nova 21 i impulsa per encàrrec de la Generalitat un programa universitari per al desenvolupament professional dels mestres.     Des de sempre, l'escola s'ha plantejat quina és la millor manera d'educar. Actualment, vivim en una societat canviant que ha transformat i accelerat radicalment les necessitats i modalitats d’aprenentatge tradicionals al món. Malauradament el sistema educatiu no sempre ha sabut donar resposta a totes aquestes necessitats. Hi ha diversos estudis internacionals, que amb evidències científiques, assenyalen que el sistema educatiu necessita un replantejament urgent per tal de poder adequar-se amb èxit a aquestes noves necessitats.     Darrerament i, davant de tots aquests canvis, han sorgit molts grups, espais de reflexió i debat i iniciatives que intenten abordar el tema del canvi educatiu. Una de les iniciatives que més repercussió està tenint a nivell escolar és el programa Escola Nova 21, del qual la nostra escola en forma part.  Després de nombroses gestions, ens complau poder comptar amb la presència de l'Eduard Vallory amb qui debatrem sobre: La innovació educativa on el treball per competències és essencial per encarar els reptes de la societat del segle XXl.
URI:https://www.santaeulaliariuprimer.cat/actualitat/agenda/xerrada-tertulia-a-carrec-de-leduard-vallory-president-del-centre-unesco-de-catalunya.html
CLASS:PUBLIC
END:VEVENT
END:VCALENDAR
