BEGIN:VCALENDAR
VERSION:2.0
CALSCALE:GREGORIAN
PRODID:-//Diputació de Barcelona//DibaCMS//EN
BEGIN:VEVENT
UID:2939
DTSTAMP:20260425T143734
DTSTART:20151220T000000
DTEND:20151220T000000
SUMMARY:Exhibició del Gimnàs Actiu
LOCATION:
METHOD:PUBLISH
X-WR-CALNAME:riupr.ajuntament@santaeulaliariuprimer.cat
X-WR-TIMEZONE:Europe/Madrid
DESCRIPTION:Diumenge 20 de desembreExhibició del Gimnàs Actiu, a les 6 de la tarda a la Casa de Cultura. Gratuït.
URI:https://www.santaeulaliariuprimer.cat/actualitat/agenda/2939-exhibicio-del-gimnas-actiu.html
CLASS:PUBLIC
END:VEVENT
END:VCALENDAR
