BEGIN:VCALENDAR
VERSION:2.0
CALSCALE:GREGORIAN
PRODID:-//Diputació de Barcelona//DibaCMS//EN
BEGIN:VEVENT
UID:2943
DTSTAMP:20260426T034122
DTSTART:20150920T000000
DTEND:20150920T000000
SUMMARY:25a. Pedala-Pedala.
LOCATION:
METHOD:PUBLISH
X-WR-CALNAME:riupr.ajuntament@santaeulaliariuprimer.cat
X-WR-TIMEZONE:Europe/Madrid
DESCRIPTION:Sortida amb BTT. Inscripcions a partir de les 7:30h. Sortida a les 8:30h des de la Plaça Nova. Més informació i preinscripcions a: www.aeriuprimer.catOrganitza: Pedala-Pedala.
URI:https://www.santaeulaliariuprimer.cat/actualitat/agenda/25a-pedala-pedala.html
CLASS:PUBLIC
END:VEVENT
END:VCALENDAR
