BEGIN:VCALENDAR
VERSION:2.0
CALSCALE:GREGORIAN
PRODID:-//Diputació de Barcelona//DibaCMS//EN
BEGIN:VEVENT
UID:2964
DTSTAMP:20260425T204950
DTSTART:20160919T000000
DTEND:20160919T000000
SUMMARY:Parada setmanal bibliobús el Puigdon. 

LOCATION:
METHOD:PUBLISH
X-WR-CALNAME:riupr.ajuntament@santaeulaliariuprimer.cat
X-WR-TIMEZONE:Europe/Madrid
DESCRIPTION:Al carrer Major, davant del Casal dels Avis "El Puig" 
URI:https://www.santaeulaliariuprimer.cat/actualitat/agenda/2964-parada-setmanal-bibliobus-el-puigdon-.html
CLASS:PUBLIC
END:VEVENT
END:VCALENDAR
