BEGIN:VCALENDAR
VERSION:2.0
CALSCALE:GREGORIAN
PRODID:-//Diputació de Barcelona//DibaCMS//EN
BEGIN:VEVENT
UID:2965
DTSTAMP:20260426T004545
DTSTART:20160519T000000
DTEND:20160519T000000
SUMMARY:Sortida a Barcelona: Palau de la música. Casal d'Avis El Puig
LOCATION:
METHOD:PUBLISH
X-WR-CALNAME:riupr.ajuntament@santaeulaliariuprimer.cat
X-WR-TIMEZONE:Europe/Madrid
DESCRIPTION:Propera Activitat Cultural Casal d’Avis El Puig:Sortida a Barcelona: Palau de la música. (Conjuntament amb la gent gran de Borredà).Data: 19 de maig. Horari: Tot el dia. Properament rebreu més informació. 
URI:https://www.santaeulaliariuprimer.cat/actualitat/agenda/sortida-a-barcelona-palau-de-la-musica-casal-davis-el-puig.html
CLASS:PUBLIC
END:VEVENT
END:VCALENDAR
