BEGIN:VCALENDAR
VERSION:2.0
CALSCALE:GREGORIAN
PRODID:-//Diputació de Barcelona//DibaCMS//EN
BEGIN:VEVENT
UID:2966
DTSTAMP:20260425T234144
DTSTART:20160519T000000
DTEND:20160519T000000
SUMMARY:Sessió informativa adreçada a persones en situació d'atur o que estan treballant i cerquen una millora laboral
LOCATION:
METHOD:PUBLISH
X-WR-CALNAME:riupr.ajuntament@santaeulaliariuprimer.cat
X-WR-TIMEZONE:Europe/Madrid
DESCRIPTION:La regidoria de Promoció Econòmica de l'Ajuntament de Santa Eulàlia de Riuprimer us convida, a la Sessió informativa adreçada a persones en situació d’atur o que estan treballant i cerquen una millora laboral.     Lloc i hora: Dijous, 19 de maig de 2016. De 9:30 a 11:00h. Al local del Punt Jove.     La finalitat d’aquesta trobada és informar dels serveis de borsa de treball i recursos que l’Ajuntament posa a l’abast de les persones que estan en procés de recerca de feina i donar-los suport i acompanyament per a una millora professional.     Podeu confirmar assistència al correu electrònic  
URI:https://www.santaeulaliariuprimer.cat/actualitat/agenda/sessio-informativa-adrecada-a-persones-en-situacio-datur-o-que-estan-treballant-i-cerquen-una-millora-laboral.html
CLASS:PUBLIC
END:VEVENT
END:VCALENDAR
