BEGIN:VCALENDAR
VERSION:2.0
CALSCALE:GREGORIAN
PRODID:-//Diputació de Barcelona//DibaCMS//EN
BEGIN:VEVENT
UID:2969
DTSTAMP:20260426T051418
DTSTART:20160419T000000
DTEND:20160419T000000
SUMMARY:6a Setmana de la Gent Gran 2016
LOCATION:
METHOD:PUBLISH
X-WR-CALNAME:riupr.ajuntament@santaeulaliariuprimer.cat
X-WR-TIMEZONE:Europe/Madrid
DESCRIPTION:Sortida a Barcelona: Palau de la MúsicaConjuntament amb la gent gran de Borredà
URI:https://www.santaeulaliariuprimer.cat/actualitat/agenda/2969-6a-setmana-de-la-gent-gran-2016.html
CLASS:PUBLIC
END:VEVENT
END:VCALENDAR
