BEGIN:VCALENDAR
VERSION:2.0
CALSCALE:GREGORIAN
PRODID:-//Diputació de Barcelona//DibaCMS//EN
BEGIN:VEVENT
UID:2978
DTSTAMP:20260425T205133
DTSTART:20161218T000000
DTEND:20161218T000000
SUMMARY:V Fira Santulària. 
LOCATION:
METHOD:PUBLISH
X-WR-CALNAME:riupr.ajuntament@santaeulaliariuprimer.cat
X-WR-TIMEZONE:Europe/Madrid
DESCRIPTION:I el diumenge 18 de desembre arriba un dels plats forts: La V Fira Santulària. A partir de les 10 del matí i fins a les 2 del migdia. Paradetes, mostra d'entitats, artistes i veïns del poble, xocolatada en benefici de La Marató de TV3, música, inflables i activitats lúdiques per la mainada...I Cercavila Gegantera! Amb els gegants de Santa Eulàlia de Riuprimer, que estrenaran la nova capgrossa Marga feta pels infants de l’escola municipal El Roure Gros. I la colla convidada són els Geganters de Sant Joan de les Abadesses. Una nova ocasió de continuar activant la nova colla gegantera del poble. I molt bon ambient!! Us hi esperem!Organitza: l’Ajuntament i AMPA El Roure Xic.
URI:https://www.santaeulaliariuprimer.cat/actualitat/agenda/v-fira-santularia-.html
CLASS:PUBLIC
END:VEVENT
END:VCALENDAR
