BEGIN:VCALENDAR
VERSION:2.0
CALSCALE:GREGORIAN
PRODID:-//Diputació de Barcelona//DibaCMS//EN
BEGIN:VEVENT
UID:2990
DTSTAMP:20260425T205030
DTSTART:20161217T000000
DTEND:20161217T000000
SUMMARY:Contes Dibuixats amb Subi i Anna. Activitat familiar
LOCATION:
METHOD:PUBLISH
X-WR-CALNAME:riupr.ajuntament@santaeulaliariuprimer.cat
X-WR-TIMEZONE:Europe/Madrid
DESCRIPTION:El dissabte 17 de desembre hi ha una activitat familiar a partir de les 11h a la Casa de Cultura: Contes Dibuixats amb Subi i Anna. Gratuït. Organitza: Ajuntament.
URI:https://www.santaeulaliariuprimer.cat/actualitat/agenda/contes-dibuixats-amb-subi-i-anna-activitat-familiar.html
CLASS:PUBLIC
END:VEVENT
END:VCALENDAR
