BEGIN:VCALENDAR
VERSION:2.0
CALSCALE:GREGORIAN
PRODID:-//Diputació de Barcelona//DibaCMS//EN
BEGIN:VEVENT
UID:2991
DTSTAMP:20260426T063510
DTSTART:20141217T000000
DTEND:20141218T000000
SUMMARY:Bibliobús
Parada quinzenal
LOCATION:
METHOD:PUBLISH
X-WR-CALNAME:riupr.ajuntament@santaeulaliariuprimer.cat
X-WR-TIMEZONE:Europe/Madrid
DESCRIPTION: Al carrer Major, a la zona de l'antiga gasolinera. 
URI:https://www.santaeulaliariuprimer.cat/actualitat/agenda/2991-bibliobusparada-quinzenal.html
CLASS:PUBLIC
END:VEVENT
END:VCALENDAR
