BEGIN:VCALENDAR
VERSION:2.0
CALSCALE:GREGORIAN
PRODID:-//Diputació de Barcelona//DibaCMS//EN
BEGIN:VEVENT
UID:2997
DTSTAMP:20260425T233229
DTSTART:20160917T000000
DTEND:20160917T000000
SUMMARY:Festa Major 2016. Màster Class de Zumba
LOCATION:
METHOD:PUBLISH
X-WR-CALNAME:riupr.ajuntament@santaeulaliariuprimer.cat
X-WR-TIMEZONE:Europe/Madrid
DESCRIPTION:18h. Màster Class de Zumba a càrrec de Jordi Giralde. Ballarí, coreògraf i instructor de zumba i Laura Ferrer del Gimnàs Actiu. Acte benèfic per col•laborar amb Osona contra el càncer, el preu és de 10€ per 2 hores de classe. Organitza, Gimnàs Actiu, col•labora l’Ajuntament. A la pista nova.
URI:https://www.santaeulaliariuprimer.cat/actualitat/agenda/festa-major-2016-master-class-de-zumba.html
CLASS:PUBLIC
END:VEVENT
END:VCALENDAR
