BEGIN:VCALENDAR
VERSION:2.0
CALSCALE:GREGORIAN
PRODID:-//Diputació de Barcelona//DibaCMS//EN
BEGIN:VEVENT
UID:3022
DTSTAMP:20260425T195815
DTSTART:20170516T000000
DTEND:20170516T000000
SUMMARY:Conferència sobre el mil·liari romà de Santa Eulàlia de Riuprimer. Amb els Amics dels Museus d'Osona
LOCATION:
METHOD:PUBLISH
X-WR-CALNAME:riupr.ajuntament@santaeulaliariuprimer.cat
X-WR-TIMEZONE:Europe/Madrid
DESCRIPTION:Amb motiu del Dia Internacional dels Museus, els Amics dels Museus d’Osona han escollit com a peça de l’any el mil•liari romà de Santa Eulàlia de Riuprimer.Conferència: La importància de les infraestructures en el món romà: el cas de la via republicana de Mani Sergi i els seus mil•liaris.A càrrec dels arqueòlegs: Imma Mestres i Carles Padrós. Dia: Dimarts 16 de maig a les 19h a la Casa de Cultura de Santa Eulàlia de Riuprimer. L’acte es clourà amb un piscolabis. (Des d’una hora abans, es podrà visitar el mil•liari romà que es troba al vestíbul de l’Ajuntament). Vegeu més informació a la postal de la Peça de l'any dels Amics dels Museus d'Osona, a les imatges adjuntes o visitant la seva web.
URI:https://www.santaeulaliariuprimer.cat/actualitat/agenda/conferencia-sobre-el-milliari-roma-de-santa-eulalia-de-riuprimer-amb-els-amics-dels-museus-dosona.html
CLASS:PUBLIC
END:VEVENT
END:VCALENDAR
