BEGIN:VCALENDAR
VERSION:2.0
CALSCALE:GREGORIAN
PRODID:-//Diputació de Barcelona//DibaCMS//EN
BEGIN:VEVENT
UID:3039
DTSTAMP:20260425T233417
DTSTART:20161015T000000
DTEND:20161015T000000
SUMMARY:1r Festival de Tardor. Club Patí Riuprimer
LOCATION:
METHOD:PUBLISH
X-WR-CALNAME:riupr.ajuntament@santaeulaliariuprimer.cat
X-WR-TIMEZONE:Europe/Madrid
DESCRIPTION:Nota del Club Patí Riuprimer:Ens trobem tots dissabte 15 d'octubre per a celebrar el nostre primer festival de tardor.Disfrutarem de la mà d'alguns clubs de patinatge de la comarca, com són el Club patí Voltregà i l'APA Folgueroles, també tindrem alguns balls individuals de gran nivell!!Vinga que us hi esperem a tots!!
URI:https://www.santaeulaliariuprimer.cat/actualitat/agenda/1r-festival-de-tardor-club-pati-riuprimer.html
CLASS:PUBLIC
END:VEVENT
END:VCALENDAR
