BEGIN:VCALENDAR
VERSION:2.0
CALSCALE:GREGORIAN
PRODID:-//Diputació de Barcelona//DibaCMS//EN
BEGIN:VEVENT
UID:3044
DTSTAMP:20260426T004638
DTSTART:20170415T000000
DTEND:20170415T000000
SUMMARY:Caramelles Santa Eulàlia de Riuprimer
LOCATION:
METHOD:PUBLISH
X-WR-CALNAME:riupr.ajuntament@santaeulaliariuprimer.cat
X-WR-TIMEZONE:Europe/Madrid
DESCRIPTION:Per 38è any seguit des de la seva recuperació, tornen les preuades Caramelles de Santa Eulàlia de Riuprimer amb els tres grups de caramellaires; grans, mitjans i petits. Seran el proper cap de setmana, dissabte 15 els grans recorreran les cases de pagès cantant i ballant. Diumenge 16 a 2/4 de 9 del matí començarà la cantada i la ballada pels carrers del poble a càrrec de les tres colles. La festa final serà després de la missa de Glòria, a ¼ d’1 a la Plaça de l’Església, acabant amb les típiques corrandes. I finalment el dilluns 17 els petits i els mitjans cantaran i ballaran per les cases de pagès. Les cançons que ha escollit la colla dels grans, formada per gairebé 50 cantaires i dirigida per Joan Montells, són el vals “Un cant festiu”, amb música de Josep Voltas i lletra de P. Català, i la sardana “Canço d’abril” una composició feta a la comarca d’Osona, amb música de Manuel Balasch (Sant Julià de Vilatorta, 1916-2008) i lletra d’Anton Carrera (Vic, 1943).
URI:https://www.santaeulaliariuprimer.cat/actualitat/agenda/3044-caramelles-santa-eulalia-de-riuprimer.html
CLASS:PUBLIC
END:VEVENT
END:VCALENDAR
