BEGIN:VCALENDAR
VERSION:2.0
CALSCALE:GREGORIAN
PRODID:-//Diputació de Barcelona//DibaCMS//EN
BEGIN:VEVENT
UID:3046
DTSTAMP:20260426T050449
DTSTART:20160415T000000
DTEND:20160417T000000
SUMMARY:Campanya Gastromuseus
LOCATION:
METHOD:PUBLISH
X-WR-CALNAME:riupr.ajuntament@santaeulaliariuprimer.cat
X-WR-TIMEZONE:Europe/Madrid
DESCRIPTION: Del 15 al 17 d’abril de 2016 es porta a terme la campanya Gastromuseus, un cap de setmana per gaudir dels museus, la gastronomia i l’allotjament que ofereix Osona a un cost excepcional. L’objectiu és donar una major visibilitat als nostres museus i al sector turístic, en general, entre el públic.     Gastromuseus és una campanya, organitzada pel Consell Comarcal d’Osona juntament amb els diferents museus de la comarca i amb la col·laboració d’allotjaments i restauradors.      L’objectiu d’aquesta campanya és potenciar la cultura, la gastronomia i el turisme de la comarca d'Osona, a través d’una proposta atractiva, consistent en l’entrada gratuïta als museus i a activitats concretes, gaudint d’una variada oferta gastronòmica i hotelera a uns preus immillorables: menús, especialment elaborats per a l'ocasió, per tan sols 15 € per persona i allotjaments a només 20 € per persona.     Enguany participa a la campanya un establiment del nostre municipi La Torre del Vilar   http://www.latorredelvilar.com/
URI:https://www.santaeulaliariuprimer.cat/actualitat/agenda/campanya-gastromuseus.html
CLASS:PUBLIC
END:VEVENT
END:VCALENDAR
