BEGIN:VCALENDAR
VERSION:2.0
CALSCALE:GREGORIAN
PRODID:-//Diputació de Barcelona//DibaCMS//EN
BEGIN:VEVENT
UID:3052
DTSTAMP:20260425T143511
DTSTART:20141214T000000
DTEND:20141214T000000
SUMMARY:III Fira Santulària a Santa Eulàlia de Riuprimer
LOCATION:
METHOD:PUBLISH
X-WR-CALNAME:riupr.ajuntament@santaeulaliariuprimer.cat
X-WR-TIMEZONE:Europe/Madrid
DESCRIPTION:Dins la Festa Major d'Hivern d'enguany, per tercer any consecutiu, gaudim de la nostra pròpia fira-mostra d'entitats. A la Plaça de la Rectoria, de 10 a 14h, amb paradetes, mostra d'entitats i artistes, inflables i ponis per la mainada, xocolatada (en benefici de La Marató), música, CERCAVILA DE REESTRENA DELS GEGANTS DE SANTA EULÀLIA DE RIUPRIMER, EULÀLIA I SEBASTIÀ, amb els Grallers del Carrer de la Riera de Vic ...i sobretot molt bon ambient! Us hi esperem!Organitza: AMPA del Roure Xic, Club de Lectura, Riuprimer contra el càncer, i Ajuntament de Santa Eulàlia de Riuprimer.
URI:https://www.santaeulaliariuprimer.cat/actualitat/agenda/3052-iii-fira-santularia-a-santa-eulalia-de-riuprimer.html
CLASS:PUBLIC
END:VEVENT
END:VCALENDAR
