BEGIN:VCALENDAR
VERSION:2.0
CALSCALE:GREGORIAN
PRODID:-//Diputació de Barcelona//DibaCMS//EN
BEGIN:VEVENT
UID:3077
DTSTAMP:20260425T143557
DTSTART:20151213T000000
DTEND:20151213T000000
SUMMARY:IV Fira Santulària
LOCATION:
METHOD:PUBLISH
X-WR-CALNAME:riupr.ajuntament@santaeulaliariuprimer.cat
X-WR-TIMEZONE:Europe/Madrid
DESCRIPTION:Diumenge 13 de desembreA partir de les 10 del matí i fins a les 2 del migdia. IV Fira Santulària. Paradetes, mostra d'entitats, artistes i veïns del poble, xocolatada i tómbola en benefici de La Marató de TV3, música, ponis, inflables...Cercavila dels gegants de Santa Eulàlia de Riuprimer, amb l’estrena del nou capgròs En Rouret. I molt bon ambient!! Us hi esperem!Organitza: AMPA Roure Xic, i l’Ajuntament. 
URI:https://www.santaeulaliariuprimer.cat/actualitat/agenda/iv-fira-santularia.html
CLASS:PUBLIC
END:VEVENT
END:VCALENDAR
